BEGIN:VCALENDAR
VERSION:2.0
PRODID:-//Twelve Stones Crossing Golf Club - ECPv6.15.18//NONSGML v1.0//EN
CALSCALE:GREGORIAN
METHOD:PUBLISH
X-ORIGINAL-URL:https://www.twelvestonesgolfclub.com
X-WR-CALDESC:Events for Twelve Stones Crossing Golf Club
REFRESH-INTERVAL;VALUE=DURATION:PT1H
X-Robots-Tag:noindex
X-PUBLISHED-TTL:PT1H
BEGIN:VTIMEZONE
TZID:America/Chicago
BEGIN:DAYLIGHT
TZOFFSETFROM:-0600
TZOFFSETTO:-0500
TZNAME:CDT
DTSTART:20240310T080000
END:DAYLIGHT
BEGIN:STANDARD
TZOFFSETFROM:-0500
TZOFFSETTO:-0600
TZNAME:CST
DTSTART:20241103T070000
END:STANDARD
BEGIN:DAYLIGHT
TZOFFSETFROM:-0600
TZOFFSETTO:-0500
TZNAME:CDT
DTSTART:20250309T080000
END:DAYLIGHT
BEGIN:STANDARD
TZOFFSETFROM:-0500
TZOFFSETTO:-0600
TZNAME:CST
DTSTART:20251102T070000
END:STANDARD
BEGIN:DAYLIGHT
TZOFFSETFROM:-0600
TZOFFSETTO:-0500
TZNAME:CDT
DTSTART:20260308T080000
END:DAYLIGHT
BEGIN:STANDARD
TZOFFSETFROM:-0500
TZOFFSETTO:-0600
TZNAME:CST
DTSTART:20261101T070000
END:STANDARD
END:VTIMEZONE
BEGIN:VEVENT
DTSTART;TZID=America/Chicago:20250315T090000
DTEND;TZID=America/Chicago:20250315T140000
DTSTAMP:20260425T182719
CREATED:20250305T192600Z
LAST-MODIFIED:20250329T205700Z
UID:10000026-1742029200-1742047200@www.twelvestonesgolfclub.com
SUMMARY:St. Patty Shamble
DESCRIPTION:SATURDAY\, MARCH 15\, 2025 \n9AM SHOTGUN \n2-PERSON \nMGA MEMBERS: $50/pp \nNON MGA: $75/pp \nSIGN-UP LINK:  https://manager.gallusgolf.com/Register/68599/2025-st-patty-shamble
URL:https://www.twelvestonesgolfclub.com/event/st-patty-shamble/
LOCATION:Twelve Stones Crossing Golf Club\, 1201 Twelve Stones Xing\, Goodlettsville\, TN\, 37072\, United States
ATTACH;FMTTYPE=image/png:https://www.twelvestonesgolfclub.com/wp-content/uploads/sites/9319/2025/03/St.-Patty-Shamble-1.png
ORGANIZER;CN="Sam Rhoten":MAILTO:sam@twelvestonesgolfclub.com
END:VEVENT
END:VCALENDAR