BEGIN:VCALENDAR
VERSION:2.0
PRODID:-//Twelve Stones Crossing Golf Club - ECPv6.15.18//NONSGML v1.0//EN
CALSCALE:GREGORIAN
METHOD:PUBLISH
X-WR-CALNAME:Twelve Stones Crossing Golf Club
X-ORIGINAL-URL:https://www.twelvestonesgolfclub.com
X-WR-CALDESC:Events for Twelve Stones Crossing Golf Club
REFRESH-INTERVAL;VALUE=DURATION:PT1H
X-Robots-Tag:noindex
X-PUBLISHED-TTL:PT1H
BEGIN:VTIMEZONE
TZID:America/Chicago
BEGIN:DAYLIGHT
TZOFFSETFROM:-0600
TZOFFSETTO:-0500
TZNAME:CDT
DTSTART:20250309T080000
END:DAYLIGHT
BEGIN:STANDARD
TZOFFSETFROM:-0500
TZOFFSETTO:-0600
TZNAME:CST
DTSTART:20251102T070000
END:STANDARD
BEGIN:DAYLIGHT
TZOFFSETFROM:-0600
TZOFFSETTO:-0500
TZNAME:CDT
DTSTART:20260308T080000
END:DAYLIGHT
BEGIN:STANDARD
TZOFFSETFROM:-0500
TZOFFSETTO:-0600
TZNAME:CST
DTSTART:20261101T070000
END:STANDARD
BEGIN:DAYLIGHT
TZOFFSETFROM:-0600
TZOFFSETTO:-0500
TZNAME:CDT
DTSTART:20270314T080000
END:DAYLIGHT
BEGIN:STANDARD
TZOFFSETFROM:-0500
TZOFFSETTO:-0600
TZNAME:CST
DTSTART:20271107T070000
END:STANDARD
END:VTIMEZONE
BEGIN:VEVENT
DTSTART;TZID=America/Chicago:20260221T090000
DTEND;TZID=America/Chicago:20260221T140000
DTSTAMP:20260419T075254
CREATED:20251223T170704Z
LAST-MODIFIED:20251223T170704Z
UID:10000039-1771664400-1771682400@www.twelvestonesgolfclub.com
SUMMARY:2026 Ice Breaker Scramble
DESCRIPTION:9AM Shotgun \n4-Person\, Individual Registration \nTeams Assigned Based on Handicap \nABCD Scramble \nMGA Member $40 \nNon MGA $50 \nGuest $75 \nSign up: https://manager.gallusgolf.com/Register/81473/2026-icebreaker-scramble
URL:https://www.twelvestonesgolfclub.com/event/2026-ice-breaker-scramble/
LOCATION:Twelve Stones Crossing Golf Club\, 1201 Twelve Stones Xing\, Goodlettsville\, TN\, 37072\, United States
ATTACH;FMTTYPE=image/jpeg:https://www.twelvestonesgolfclub.com/wp-content/uploads/sites/9319/2025/12/Untitled-8.jpeg
ORGANIZER;CN="Sam Rhoten":MAILTO:sam@twelvestonesgolfclub.com
END:VEVENT
END:VCALENDAR