BEGIN:VCALENDAR
VERSION:2.0
PRODID:-//Twelve Stones Crossing Golf Club - ECPv6.15.18//NONSGML v1.0//EN
CALSCALE:GREGORIAN
METHOD:PUBLISH
X-ORIGINAL-URL:https://www.twelvestonesgolfclub.com
X-WR-CALDESC:Events for Twelve Stones Crossing Golf Club
REFRESH-INTERVAL;VALUE=DURATION:PT1H
X-Robots-Tag:noindex
X-PUBLISHED-TTL:PT1H
BEGIN:VTIMEZONE
TZID:UTC
BEGIN:STANDARD
TZOFFSETFROM:+0000
TZOFFSETTO:+0000
TZNAME:UTC
DTSTART:20230101T000000
END:STANDARD
END:VTIMEZONE
BEGIN:VEVENT
DTSTART;TZID=UTC:20240916T070000
DTEND;TZID=UTC:20240916T140000
DTSTAMP:20260425T200542
CREATED:20240721T013809Z
LAST-MODIFIED:20240721T013821Z
UID:10000023-1726470000-1726495200@www.twelvestonesgolfclub.com
SUMMARY:1st Annual Joshua Wilson Memorial Tournament
DESCRIPTION:$100 Hole Sponsorhip\n$40 Mulligan Package\nPutting Contest\nLongest Drive\nClosest To The Pin\n\n$125/player – $500/team \nRegistration starts at 7:00am \nShotgun Start at 8:00am
URL:https://www.twelvestonesgolfclub.com/event/1st-annual-joshua-wilson-memorial-tournament/
LOCATION:Twelve Stones Crossing Golf Club\, 1201 Twelve Stones Xing\, Goodlettsville\, TN\, 37072\, United States
CATEGORIES:Outside Outing
ATTACH;FMTTYPE=image/jpeg:https://www.twelvestonesgolfclub.com/wp-content/uploads/sites/9319/2024/07/Joshua-Wilson-Memorial.jpg
ORGANIZER;CN="Kyle Peery":MAILTO:peery_kyle@bellsouth.net
END:VEVENT
END:VCALENDAR