BEGIN:VCALENDAR
VERSION:2.0
PRODID:-//Twelve Stones Crossing Golf Club - ECPv6.15.18//NONSGML v1.0//EN
CALSCALE:GREGORIAN
METHOD:PUBLISH
X-WR-CALNAME:Twelve Stones Crossing Golf Club
X-ORIGINAL-URL:https://www.twelvestonesgolfclub.com
X-WR-CALDESC:Events for Twelve Stones Crossing Golf Club
REFRESH-INTERVAL;VALUE=DURATION:PT1H
X-Robots-Tag:noindex
X-PUBLISHED-TTL:PT1H
BEGIN:VTIMEZONE
TZID:America/Chicago
BEGIN:DAYLIGHT
TZOFFSETFROM:-0600
TZOFFSETTO:-0500
TZNAME:CDT
DTSTART:20230312T080000
END:DAYLIGHT
BEGIN:STANDARD
TZOFFSETFROM:-0500
TZOFFSETTO:-0600
TZNAME:CST
DTSTART:20231105T070000
END:STANDARD
BEGIN:DAYLIGHT
TZOFFSETFROM:-0600
TZOFFSETTO:-0500
TZNAME:CDT
DTSTART:20240310T080000
END:DAYLIGHT
BEGIN:STANDARD
TZOFFSETFROM:-0500
TZOFFSETTO:-0600
TZNAME:CST
DTSTART:20241103T070000
END:STANDARD
BEGIN:DAYLIGHT
TZOFFSETFROM:-0600
TZOFFSETTO:-0500
TZNAME:CDT
DTSTART:20250309T080000
END:DAYLIGHT
BEGIN:STANDARD
TZOFFSETFROM:-0500
TZOFFSETTO:-0600
TZNAME:CST
DTSTART:20251102T070000
END:STANDARD
END:VTIMEZONE
BEGIN:VTIMEZONE
TZID:UTC
BEGIN:STANDARD
TZOFFSETFROM:+0000
TZOFFSETTO:+0000
TZNAME:UTC
DTSTART:20230101T000000
END:STANDARD
END:VTIMEZONE
BEGIN:VEVENT
DTSTART;TZID=America/Chicago:20240605T100000
DTEND;TZID=America/Chicago:20240605T140000
DTSTAMP:20260419T080227
CREATED:20240602T212506Z
LAST-MODIFIED:20240602T212506Z
UID:10000020-1717581600-1717596000@www.twelvestonesgolfclub.com
SUMMARY:TITLEIST CLUB FITTING DAY
DESCRIPTION:Titleist professionals will be on site June 5\, 2024 at 10AM for personalized club fittings.  Open to all.  Appointments are required. Call the shop at 615-239-8945.
URL:https://www.twelvestonesgolfclub.com/event/titleist-club-fitting-day-3/
LOCATION:Twelve Stones Crossing Golf Club\, 1201 Twelve Stones Xing\, Goodlettsville\, TN\, 37072\, United States
CATEGORIES:Club Fitting,Member Events,Public Events
ATTACH;FMTTYPE=image/jpeg:https://www.twelvestonesgolfclub.com/wp-content/uploads/sites/9319/2024/02/20230706_Titleist_Family_Laydown_Dark_RGB.jpg
END:VEVENT
BEGIN:VEVENT
DTSTART;TZID=UTC:20240604T080000
DTEND;TZID=UTC:20240604T160000
DTSTAMP:20260419T080227
CREATED:20240602T211632Z
LAST-MODIFIED:20240602T211632Z
UID:10000018-1717488000-1717516800@www.twelvestonesgolfclub.com
SUMMARY:TFSCA 27th Annual Dean Cornwell Golf Classic
DESCRIPTION:Join us for the TFSCA 27th Annual Dean Cornwell Golf Classic! \nTwelve Stones Golf Club offers 18 championship holes spanning over 6000 yards\, with the meandering Manning Creek as its centerpiece.  The beautifully manicured bent greens and challenging course layout makes Twelve Stones one of the most enjoyable golf courses in Middle Tennessee. \nSchedule of Events\n8:00 am – Registration Opens & Range Balls\n9:00 am – Shotgun Start\nLunch\, Raffle\, Door Prizes & Awards to follow after tournament play ends\nPrizes awarded for: Closest to the Pin and Longest Drive\nFormat: Four-Person Scramble\nMake your own team\, or we can pair you up.\nFour players per team\, 144 players max.\nAll players are welcome. Entry deadline is May 29\, 2024.\n\nSponsorships are available. \nA portion of the proceeds from the Dean Cornwell Golf Classic will be used to help with local issues such as families that are displaced by fires\, projects that will help promote the fire sprinkler industry\, efforts to deal with issues that affect the fire sprinkler industry\, and providing meals for distressed families during the holidays.\n\n\n\n\nQuestions? Please Contact:\nBrian Biggs\, Southeast Regional Manager\nbiggs@nfsa.org
URL:https://www.twelvestonesgolfclub.com/event/tfsca-27th-annual-dean-cornwell-golf-classic/
LOCATION:Twelve Stones Crossing Golf Club\, 1201 Twelve Stones Xing\, Goodlettsville\, TN\, 37072\, United States
ORGANIZER;CN="Brian Biggs":MAILTO:biggs@nfsa.org
END:VEVENT
BEGIN:VEVENT
DTSTART;TZID=America/Chicago:20240508T100000
DTEND;TZID=America/Chicago:20240508T140000
DTSTAMP:20260419T080227
CREATED:20240228T053612Z
LAST-MODIFIED:20240301T045436Z
UID:10000010-1715162400-1715176800@www.twelvestonesgolfclub.com
SUMMARY:TITLEIST CLUB FITTING DAY
DESCRIPTION:Titleist professionals will be on site May 8\, 2024 at 10AM for personalized club fittings.  Open to all.  Appointments are required. Call the shop at 615-239-8945.
URL:https://www.twelvestonesgolfclub.com/event/titleist-club-fitting-day-2/
LOCATION:Twelve Stones Crossing Golf Club\, 1201 Twelve Stones Xing\, Goodlettsville\, TN\, 37072\, United States
CATEGORIES:Club Fitting,Member Events,Public Events
ATTACH;FMTTYPE=image/jpeg:https://www.twelvestonesgolfclub.com/wp-content/uploads/sites/9319/2024/02/20230706_Titleist_Family_Laydown_Dark_RGB.jpg
END:VEVENT
BEGIN:VEVENT
DTSTART;TZID=UTC:20240507T080000
DTEND;TZID=UTC:20240507T170000
DTSTAMP:20260419T080227
CREATED:20240418T224147Z
LAST-MODIFIED:20240418T224147Z
UID:10000016-1715068800-1715101200@www.twelvestonesgolfclub.com
SUMMARY:Recovery Refuge
DESCRIPTION:Every week in Sumner County people die from drug overdose and Nashville averages 14 deaths a week from Fentanyl alone! Recovery Refuge is a Christ centric redemptive refuge for those battling the grips of addiction.\n\nThis fundraiser will provide relational discipleship tools\, counseling and transportation to work\, to Church and to Christian recovery meetings. You get to change a persons life just by swinging a golf club\n\n$700 in cash prizes\, $25 mulligans\, $25 hole in one shots\, sponsorships available. ALL PROCEEDS go to (501c3) Recovery Refuge
URL:https://www.twelvestonesgolfclub.com/event/recovery-refuge/
LOCATION:Twelve Stones Crossing Golf Club\, 1201 Twelve Stones Xing\, Goodlettsville\, TN\, 37072\, United States
CATEGORIES:Outside Outing,Public Events
ATTACH;FMTTYPE=image/jpeg:https://www.twelvestonesgolfclub.com/wp-content/uploads/sites/9319/2024/04/recovery-refuge.jpg
END:VEVENT
BEGIN:VEVENT
DTSTART;TZID=UTC:20240503T090000
DTEND;TZID=UTC:20240503T143000
DTSTAMP:20260419T080227
CREATED:20240418T231104Z
LAST-MODIFIED:20240418T231104Z
UID:10000017-1714726800-1714746600@www.twelvestonesgolfclub.com
SUMMARY:JPII KNIGHTS ATHLETIC CLUB 19TH ANNUAL TOURNAMENT
DESCRIPTION:JPII KNIGHTS ATHLETIC CLUB 19TH ANNUAL TOURNAMENT \n9AM SHOTGUN \nJPII CONTACT: MIKE DONOVAN – MDONOVAN814@GMAIL.COM
URL:https://www.twelvestonesgolfclub.com/event/jpii-knights-athletic-club-19th-annual-tournament/
LOCATION:Twelve Stones Crossing Golf Club\, 1201 Twelve Stones Xing\, Goodlettsville\, TN\, 37072\, United States
ATTACH;FMTTYPE=image/png:https://www.twelvestonesgolfclub.com/wp-content/uploads/sites/9319/2024/04/2024-POPE-KAC-golf-tourney-1.png
END:VEVENT
BEGIN:VEVENT
DTSTART;TZID=UTC:20240422T100000
DTEND;TZID=UTC:20240422T170000
DTSTAMP:20260419T080227
CREATED:20240228T055246Z
LAST-MODIFIED:20240228T055356Z
UID:10000015-1713780000-1713805200@www.twelvestonesgolfclub.com
SUMMARY:Sander's Ferry Pizza-Moby Dicky's-Live Love Nashville Annual Charity Outing
DESCRIPTION:Details coming soon
URL:https://www.twelvestonesgolfclub.com/event/sanders-ferry-pizza-moby-dickys-live-love-nashville-annual-charity-outing/
LOCATION:Twelve Stones Crossing Golf Club\, 1201 Twelve Stones Xing\, Goodlettsville\, TN\, 37072\, United States
END:VEVENT
BEGIN:VEVENT
DTSTART;TZID=America/Chicago:20240413T090000
DTEND;TZID=America/Chicago:20240413T170000
DTSTAMP:20260419T080227
CREATED:20240228T054629Z
LAST-MODIFIED:20240228T054629Z
UID:10000013-1712998800-1713027600@www.twelvestonesgolfclub.com
SUMMARY:TSCGC MASTERS PAR 3 CONTEST
DESCRIPTION:Details coming soon
URL:https://www.twelvestonesgolfclub.com/event/tscgc-masters-par-3-contest/
LOCATION:Twelve Stones Crossing Golf Club\, 1201 Twelve Stones Xing\, Goodlettsville\, TN\, 37072\, United States
END:VEVENT
BEGIN:VEVENT
DTSTART;VALUE=DATE:20240408
DTEND;VALUE=DATE:20240409
DTSTAMP:20260419T080227
CREATED:20240228T054403Z
LAST-MODIFIED:20240228T054403Z
UID:10000012-1712534400-1712620799@www.twelvestonesgolfclub.com
SUMMARY:TNPGA PRO PRO PRO SCRAMBLE
DESCRIPTION:Twelve Stones Crossing Golf Club is pleased to announce we will be hosting this Tennessee PGA event on Monday\, April 8\, 2024.  The course will be closed all day for this event.
URL:https://www.twelvestonesgolfclub.com/event/tnpga-pro-pro-pro-scramble/
LOCATION:Twelve Stones Crossing Golf Club\, 1201 Twelve Stones Xing\, Goodlettsville\, TN\, 37072\, United States
END:VEVENT
BEGIN:VEVENT
DTSTART;TZID=America/Chicago:20240316T090000
DTEND;TZID=America/Chicago:20240316T140000
DTSTAMP:20260419T080227
CREATED:20240227T041156Z
LAST-MODIFIED:20240228T220550Z
UID:10000008-1710579600-1710597600@www.twelvestonesgolfclub.com
SUMMARY:TSCGC MEMBERS ONLY ST. PATTY 2-MAN SHAMBLE
DESCRIPTION:
URL:https://www.twelvestonesgolfclub.com/event/tscgc-members-only-st-patty-2-man-shamble/
LOCATION:Twelve Stones Crossing Golf Club\, 1201 Twelve Stones Xing\, Goodlettsville\, TN\, 37072\, United States
CATEGORIES:Member Events
ATTACH;FMTTYPE=image/png:https://www.twelvestonesgolfclub.com/wp-content/uploads/sites/9319/2024/02/A-flyer-for-a-St.-Patricks-Day-Golf-Tournament-2-2024-St.-Patty-Shamble-flyer.png
ORGANIZER;CN="Sam Rhoten":MAILTO:sam@twelvestonesgolfclub.com
END:VEVENT
BEGIN:VEVENT
DTSTART;TZID=America/Chicago:20240310T100000
DTEND;TZID=America/Chicago:20240310T140000
DTSTAMP:20260419T080227
CREATED:20240228T051809Z
LAST-MODIFIED:20240228T051809Z
UID:10000009-1710064800-1710079200@www.twelvestonesgolfclub.com
SUMMARY:TITLEIST CLUB FITTING DAY
DESCRIPTION:Titleist professionals will be on site March 10\, 2024 at 10AM for personalized club fittings.  Open to all.  Appointments are required.
URL:https://www.twelvestonesgolfclub.com/event/titleist-club-fitting-day/
LOCATION:Twelve Stones Crossing Golf Club\, 1201 Twelve Stones Xing\, Goodlettsville\, TN\, 37072\, United States
CATEGORIES:Club Fitting,Member Events,Public Events
ATTACH;FMTTYPE=image/jpeg:https://www.twelvestonesgolfclub.com/wp-content/uploads/sites/9319/2024/02/20230706_Titleist_Family_Laydown_Dark_RGB.jpg
END:VEVENT
END:VCALENDAR