BEGIN:VCALENDAR
VERSION:2.0
PRODID:-//Twelve Stones Crossing Golf Club - ECPv6.15.18//NONSGML v1.0//EN
CALSCALE:GREGORIAN
METHOD:PUBLISH
X-WR-CALNAME:Twelve Stones Crossing Golf Club
X-ORIGINAL-URL:https://www.twelvestonesgolfclub.com
X-WR-CALDESC:Events for Twelve Stones Crossing Golf Club
REFRESH-INTERVAL;VALUE=DURATION:PT1H
X-Robots-Tag:noindex
X-PUBLISHED-TTL:PT1H
BEGIN:VTIMEZONE
TZID:America/Chicago
BEGIN:DAYLIGHT
TZOFFSETFROM:-0600
TZOFFSETTO:-0500
TZNAME:CDT
DTSTART:20240310T080000
END:DAYLIGHT
BEGIN:STANDARD
TZOFFSETFROM:-0500
TZOFFSETTO:-0600
TZNAME:CST
DTSTART:20241103T070000
END:STANDARD
BEGIN:DAYLIGHT
TZOFFSETFROM:-0600
TZOFFSETTO:-0500
TZNAME:CDT
DTSTART:20250309T080000
END:DAYLIGHT
BEGIN:STANDARD
TZOFFSETFROM:-0500
TZOFFSETTO:-0600
TZNAME:CST
DTSTART:20251102T070000
END:STANDARD
BEGIN:DAYLIGHT
TZOFFSETFROM:-0600
TZOFFSETTO:-0500
TZNAME:CDT
DTSTART:20260308T080000
END:DAYLIGHT
BEGIN:STANDARD
TZOFFSETFROM:-0500
TZOFFSETTO:-0600
TZNAME:CST
DTSTART:20261101T070000
END:STANDARD
END:VTIMEZONE
BEGIN:VEVENT
DTSTART;TZID=America/Chicago:20251206T100000
DTEND;TZID=America/Chicago:20251206T170000
DTSTAMP:20260419T115051
CREATED:20251110T175340Z
LAST-MODIFIED:20251111T190017Z
UID:10000037-1765015200-1765040400@www.twelvestonesgolfclub.com
SUMMARY:2025 Twelve Stones Ugly Christmas Sweater Christmas-4-Kids Charity Golf Scramble
DESCRIPTION:This was a huge hit last year and raised nearly $6\,000 for Christmas4Kids. \nOpen for decorating and contests at 7:30AM\, 10:00AM Shotgun Start \n$50/Team for TSCGC Members \n$75/pp for non-members \nWear your ugliest or craziest Christmas attire\, decorate your carts\, have a blast!!! \nMore details coming soon…… \nThis one will sell out fast! \nRegister your foursome at: https://manager.gallusgolf.com/Register/81040/2025-christmas4kids
URL:https://www.twelvestonesgolfclub.com/event/2025-twelve-stones-ugly-christmas-sweater-christmas-4-kids-charity-golf-scramble/
LOCATION:Twelve Stones Crossing Golf Club\, 1201 Twelve Stones Xing\, Goodlettsville\, TN\, 37072\, United States
ATTACH;FMTTYPE=image/jpeg:https://www.twelvestonesgolfclub.com/wp-content/uploads/sites/9319/2025/11/UGLY-XMAS-SWEATER-SCRAMBLE-1.jpeg
ORGANIZER;CN="Sam Rhoten":MAILTO:sam@twelvestonesgolfclub.com
END:VEVENT
END:VCALENDAR