BEGIN:VCALENDAR
VERSION:2.0
PRODID:-//Twelve Stones Crossing Golf Club - ECPv6.15.18//NONSGML v1.0//EN
CALSCALE:GREGORIAN
METHOD:PUBLISH
X-WR-CALNAME:Twelve Stones Crossing Golf Club
X-ORIGINAL-URL:https://www.twelvestonesgolfclub.com
X-WR-CALDESC:Events for Twelve Stones Crossing Golf Club
REFRESH-INTERVAL;VALUE=DURATION:PT1H
X-Robots-Tag:noindex
X-PUBLISHED-TTL:PT1H
BEGIN:VTIMEZONE
TZID:America/Chicago
BEGIN:DAYLIGHT
TZOFFSETFROM:-0600
TZOFFSETTO:-0500
TZNAME:CDT
DTSTART:20250309T080000
END:DAYLIGHT
BEGIN:STANDARD
TZOFFSETFROM:-0500
TZOFFSETTO:-0600
TZNAME:CST
DTSTART:20251102T070000
END:STANDARD
BEGIN:DAYLIGHT
TZOFFSETFROM:-0600
TZOFFSETTO:-0500
TZNAME:CDT
DTSTART:20260308T080000
END:DAYLIGHT
BEGIN:STANDARD
TZOFFSETFROM:-0500
TZOFFSETTO:-0600
TZNAME:CST
DTSTART:20261101T070000
END:STANDARD
BEGIN:DAYLIGHT
TZOFFSETFROM:-0600
TZOFFSETTO:-0500
TZNAME:CDT
DTSTART:20270314T080000
END:DAYLIGHT
BEGIN:STANDARD
TZOFFSETFROM:-0500
TZOFFSETTO:-0600
TZNAME:CST
DTSTART:20271107T070000
END:STANDARD
END:VTIMEZONE
BEGIN:VEVENT
DTSTART;TZID=America/Chicago:20260704T070000
DTEND;TZID=America/Chicago:20260704T170000
DTSTAMP:20260419T074303
CREATED:20260404T131333Z
LAST-MODIFIED:20260404T131333Z
UID:10000046-1783148400-1783184400@www.twelvestonesgolfclub.com
SUMMARY:Flag Tournament
DESCRIPTION:Each player will be issued a flag and a quota (course handicap). Once a player hits stroke limit\, they will plant their flag in the ground.  Furthest player wins. If multiple players finish the round\, lowest net score wins. \n$50 MGA Member \n$75 Non-MGA \n$100 Guest
URL:https://www.twelvestonesgolfclub.com/event/flag-tournament/
LOCATION:Twelve Stones Crossing Golf Club\, 1201 Twelve Stones Xing\, Goodlettsville\, TN\, 37072\, United States
ORGANIZER;CN="Sam Rhoten":MAILTO:sam@twelvestonesgolfclub.com
END:VEVENT
BEGIN:VEVENT
DTSTART;TZID=America/Chicago:20260718T080000
DTEND;TZID=America/Chicago:20260719T180000
DTSTAMP:20260419T074303
CREATED:20260404T131526Z
LAST-MODIFIED:20260404T131526Z
UID:10000047-1784361600-1784484000@www.twelvestonesgolfclub.com
SUMMARY:The Savages 2-Man Scramble
DESCRIPTION:2-day open event \nFlighted after round 1 \nCalcutta & Dinner Saturday night \n$100 MGA \n$125 Non-MGA \n$175 Guest
URL:https://www.twelvestonesgolfclub.com/event/the-savages-2-man-scramble/
LOCATION:Twelve Stones Crossing Golf Club\, 1201 Twelve Stones Xing\, Goodlettsville\, TN\, 37072\, United States
ORGANIZER;CN="Sam Rhoten":MAILTO:sam@twelvestonesgolfclub.com
END:VEVENT
BEGIN:VEVENT
DTSTART;TZID=America/Chicago:20260727T080000
DTEND;TZID=America/Chicago:20260727T170000
DTSTAMP:20260419T074303
CREATED:20260404T142252Z
LAST-MODIFIED:20260404T142252Z
UID:10000062-1785139200-1785171600@www.twelvestonesgolfclub.com
SUMMARY:TOM VAUGHN OUTING
DESCRIPTION:FULL CLOSURE
URL:https://www.twelvestonesgolfclub.com/event/tom-vaughn-outing/
LOCATION:Twelve Stones Crossing Golf Club\, 1201 Twelve Stones Xing\, Goodlettsville\, TN\, 37072\, United States
END:VEVENT
END:VCALENDAR