BEGIN:VCALENDAR
VERSION:2.0
PRODID:-//Twelve Stones Crossing Golf Club - ECPv6.15.18//NONSGML v1.0//EN
CALSCALE:GREGORIAN
METHOD:PUBLISH
X-WR-CALNAME:Twelve Stones Crossing Golf Club
X-ORIGINAL-URL:https://www.twelvestonesgolfclub.com
X-WR-CALDESC:Events for Twelve Stones Crossing Golf Club
REFRESH-INTERVAL;VALUE=DURATION:PT1H
X-Robots-Tag:noindex
X-PUBLISHED-TTL:PT1H
BEGIN:VTIMEZONE
TZID:America/Chicago
BEGIN:DAYLIGHT
TZOFFSETFROM:-0600
TZOFFSETTO:-0500
TZNAME:CDT
DTSTART:20240310T080000
END:DAYLIGHT
BEGIN:STANDARD
TZOFFSETFROM:-0500
TZOFFSETTO:-0600
TZNAME:CST
DTSTART:20241103T070000
END:STANDARD
BEGIN:DAYLIGHT
TZOFFSETFROM:-0600
TZOFFSETTO:-0500
TZNAME:CDT
DTSTART:20250309T080000
END:DAYLIGHT
BEGIN:STANDARD
TZOFFSETFROM:-0500
TZOFFSETTO:-0600
TZNAME:CST
DTSTART:20251102T070000
END:STANDARD
BEGIN:DAYLIGHT
TZOFFSETFROM:-0600
TZOFFSETTO:-0500
TZNAME:CDT
DTSTART:20260308T080000
END:DAYLIGHT
BEGIN:STANDARD
TZOFFSETFROM:-0500
TZOFFSETTO:-0600
TZNAME:CST
DTSTART:20261101T070000
END:STANDARD
END:VTIMEZONE
BEGIN:VEVENT
DTSTART;TZID=America/Chicago:20250605T090000
DTEND;TZID=America/Chicago:20250605T150000
DTSTAMP:20260425T111759
CREATED:20250426T195318Z
LAST-MODIFIED:20250426T195318Z
UID:10000032-1749114000-1749135600@www.twelvestonesgolfclub.com
SUMMARY:GOODLETTSVILLE AREA CHAMBER OF COMMERCE SCRAMBLE
DESCRIPTION:For information and registration\, click here:  https://business.goodlettsvillechamber.com/events/details/chamber-golf-tournament-6787?calendarMonth=2025-06-01
URL:https://www.twelvestonesgolfclub.com/event/goodlettsville-area-chamber-of-commerce-scramble-2/
LOCATION:Twelve Stones Crossing Golf Club\, 1201 Twelve Stones Xing\, Goodlettsville\, TN\, 37072\, United States
ATTACH;FMTTYPE=image/jpeg:https://www.twelvestonesgolfclub.com/wp-content/uploads/sites/9319/2025/04/Chamber-Scramble.jpg
ORGANIZER;CN="Goodlettsville Area Chamber of Commerce":MAILTO:info@goodlettsvillechamber.com
END:VEVENT
END:VCALENDAR